BEGIN:VCALENDAR
VERSION:2.0
PRODID:-//Icelandic Canadian Club of Toronto - ECPv6.15.13//NONSGML v1.0//EN
CALSCALE:GREGORIAN
METHOD:PUBLISH
X-WR-CALNAME:Icelandic Canadian Club of Toronto
X-ORIGINAL-URL:https://www.icct.info
X-WR-CALDESC:Events for Icelandic Canadian Club of Toronto
REFRESH-INTERVAL;VALUE=DURATION:PT1H
X-Robots-Tag:noindex
X-PUBLISHED-TTL:PT1H
BEGIN:VTIMEZONE
TZID:America/Toronto
BEGIN:DAYLIGHT
TZOFFSETFROM:-0500
TZOFFSETTO:-0400
TZNAME:EDT
DTSTART:20220313T070000
END:DAYLIGHT
BEGIN:STANDARD
TZOFFSETFROM:-0400
TZOFFSETTO:-0500
TZNAME:EST
DTSTART:20221106T060000
END:STANDARD
BEGIN:DAYLIGHT
TZOFFSETFROM:-0500
TZOFFSETTO:-0400
TZNAME:EDT
DTSTART:20230312T070000
END:DAYLIGHT
BEGIN:STANDARD
TZOFFSETFROM:-0400
TZOFFSETTO:-0500
TZNAME:EST
DTSTART:20231105T060000
END:STANDARD
BEGIN:DAYLIGHT
TZOFFSETFROM:-0500
TZOFFSETTO:-0400
TZNAME:EDT
DTSTART:20240310T070000
END:DAYLIGHT
BEGIN:STANDARD
TZOFFSETFROM:-0400
TZOFFSETTO:-0500
TZNAME:EST
DTSTART:20241103T060000
END:STANDARD
END:VTIMEZONE
BEGIN:VEVENT
DTSTART;TZID=America/Toronto:20230205T140000
DTEND;TZID=America/Toronto:20230205T160000
DTSTAMP:20260425T194438
CREATED:20191214T194339Z
LAST-MODIFIED:20230109T193523Z
UID:6390-1675605600-1675612800@www.icct.info
SUMMARY:The Annual ICCT Iceland Travel Show
DESCRIPTION:Join us for information\, stories and pics on trips to Iceland  \nCoffee and treats to follow \nFeatured speakers sharing details and photos of their recent trips to Iceland will be announced in January \nCost of Admission: $8 for ICCT members in good standing and $10 for non-members \n  \nWatch a recording of the 2021 Iceland Travel Show on demand HERE \nWatch a recording of the 2022 Iceland Travel Show on demand HERE
URL:https://www.icct.info/event/the-annual-icct-iceland-travel-show
LOCATION:Morningside High Park Presbyterian Church\, 4 Morningside Ave\, Toronto\, ON\, Canada
CATEGORIES:Food,Lecture,Travel
ATTACH;FMTTYPE=image/jpeg:https://www.icct.info/wp-content/uploads/2019/12/2023-Travel-Show-Icon.jpg
ORGANIZER;CN="Madeline Stapleton":MAILTO:contact@icct.info
END:VEVENT
END:VCALENDAR