BEGIN:VCALENDAR
VERSION:2.0
PRODID:-//Icelandic Canadian Club of Toronto - ECPv6.15.13//NONSGML v1.0//EN
CALSCALE:GREGORIAN
METHOD:PUBLISH
X-WR-CALNAME:Icelandic Canadian Club of Toronto
X-ORIGINAL-URL:https://www.icct.info
X-WR-CALDESC:Events for Icelandic Canadian Club of Toronto
REFRESH-INTERVAL;VALUE=DURATION:PT1H
X-Robots-Tag:noindex
X-PUBLISHED-TTL:PT1H
BEGIN:VTIMEZONE
TZID:America/Toronto
BEGIN:DAYLIGHT
TZOFFSETFROM:-0500
TZOFFSETTO:-0400
TZNAME:EDT
DTSTART:20240310T070000
END:DAYLIGHT
BEGIN:STANDARD
TZOFFSETFROM:-0400
TZOFFSETTO:-0500
TZNAME:EST
DTSTART:20241103T060000
END:STANDARD
BEGIN:DAYLIGHT
TZOFFSETFROM:-0500
TZOFFSETTO:-0400
TZNAME:EDT
DTSTART:20250309T070000
END:DAYLIGHT
BEGIN:STANDARD
TZOFFSETFROM:-0400
TZOFFSETTO:-0500
TZNAME:EST
DTSTART:20251102T060000
END:STANDARD
BEGIN:DAYLIGHT
TZOFFSETFROM:-0500
TZOFFSETTO:-0400
TZNAME:EDT
DTSTART:20260308T070000
END:DAYLIGHT
BEGIN:STANDARD
TZOFFSETFROM:-0400
TZOFFSETTO:-0500
TZNAME:EST
DTSTART:20261101T060000
END:STANDARD
END:VTIMEZONE
BEGIN:VEVENT
DTSTART;TZID=America/Toronto:20251001T200000
DTEND;TZID=America/Toronto:20251001T213000
DTSTAMP:20260423T124424
CREATED:20250914T180709Z
LAST-MODIFIED:20250914T180709Z
UID:9522-1759348800-1759354200@www.icct.info
SUMMARY:Webinar: Not Alone on the Prairie
DESCRIPTION:Part of the Everything Icelandic webinar series presented by the Icelandic National League of North America\, “Not Alone on the Prairie” features speakers Glenn Sigurdson C.M. K. C. and Professor Niigaan Sinclair. In Recognition of the National Day for Truth and Reconciliation and the 150th Anniversary of the founding of Nýja Ísland\, the INLNA is honored to host author\, lawyer and mediator Glenn Sigurdson and Professor Niigaan Sinclair\, Anishinaabe writer\, editor and activist to share stories of how the indigenous peoples aided and guided those first settlers and what we can do today to honour this special friendship.
URL:https://www.icct.info/event/webinar-not-alone-on-the-prairie
LOCATION:On line through Zoom
CATEGORIES:History,Language,Lecture
ATTACH;FMTTYPE=application/pdf:https://www.icct.info/wp-content/uploads/2025/09/POSTER-Not-Alone-On-the-Prairie2_.pdf
END:VEVENT
BEGIN:VEVENT
DTSTART;TZID=America/Toronto:20251021T190000
DTEND;TZID=America/Toronto:20251021T210000
DTSTAMP:20260423T124424
CREATED:20250901T222627Z
LAST-MODIFIED:20250901T222627Z
UID:9496-1761073200-1761080400@www.icct.info
SUMMARY:Book Club: Song of the Vikings: Snorri & the Making of Norse Myths\, Nancy Marie Brown\, 2012
DESCRIPTION:Join us for the exciting relaunch of the ICCT Book Club for 2025/26 (see dates below)
URL:https://www.icct.info/event/book-club-song-of-the-vikings-snorri-the-making-of-norse-myths-nancy-marie-brown-2012
LOCATION:On line through Zoom
CATEGORIES:Literature
ATTACH;FMTTYPE=image/jpeg:https://www.icct.info/wp-content/uploads/2025/08/2025-book-club-squre-icon-cropped.jpg
END:VEVENT
BEGIN:VEVENT
DTSTART;TZID=America/Toronto:20251026T140000
DTEND;TZID=America/Toronto:20251026T160000
DTSTAMP:20260423T124424
CREATED:20250901T215849Z
LAST-MODIFIED:20251020T021448Z
UID:9485-1761487200-1761494400@www.icct.info
SUMMARY:Annual General Meeting 2025
DESCRIPTION:Join us for our 2025 Annual General Meeting.  \nReview last year’s events\, business\, and financials. Contribute ideas to the upcoming year. Get involved. Welcome the incoming 2025-26 Club Executive.  \nThis year’s AGM will be held in the comfortable meeting room at Richard’s condo at 32 Camden Street (near Spadina and Richmond). It will also be a hybrid meeting through Zoom.  All current and potential members are welcome.  \nCLICK HERE TO REVIEW MATERIALS FOR THE MEETING\nPlease register here to get a zoom link or RRSP to contact@icct.info if you plan to attend in person. 
URL:https://www.icct.info/event/annual-general-meeting-2025
LOCATION:32 Camden St. “The Social Room”\, 32 Camden St.\,\, Toronto\, Ontario\, M5V 0G4\, Canada
CATEGORIES:Annual General Meeting
ATTACH;FMTTYPE=image/jpeg:https://www.icct.info/wp-content/uploads/2025/09/2025-AGM-squre-icon-cropped.jpg
END:VEVENT
END:VCALENDAR