BEGIN:VCALENDAR
VERSION:2.0
PRODID:-//Icelandic Canadian Club of Toronto - ECPv6.15.13//NONSGML v1.0//EN
CALSCALE:GREGORIAN
METHOD:PUBLISH
X-ORIGINAL-URL:https://www.icct.info
X-WR-CALDESC:Events for Icelandic Canadian Club of Toronto
REFRESH-INTERVAL;VALUE=DURATION:PT1H
X-Robots-Tag:noindex
X-PUBLISHED-TTL:PT1H
BEGIN:VTIMEZONE
TZID:America/Toronto
BEGIN:DAYLIGHT
TZOFFSETFROM:-0500
TZOFFSETTO:-0400
TZNAME:EDT
DTSTART:20240310T070000
END:DAYLIGHT
BEGIN:STANDARD
TZOFFSETFROM:-0400
TZOFFSETTO:-0500
TZNAME:EST
DTSTART:20241103T060000
END:STANDARD
BEGIN:DAYLIGHT
TZOFFSETFROM:-0500
TZOFFSETTO:-0400
TZNAME:EDT
DTSTART:20250309T070000
END:DAYLIGHT
BEGIN:STANDARD
TZOFFSETFROM:-0400
TZOFFSETTO:-0500
TZNAME:EST
DTSTART:20251102T060000
END:STANDARD
BEGIN:DAYLIGHT
TZOFFSETFROM:-0500
TZOFFSETTO:-0400
TZNAME:EDT
DTSTART:20260308T070000
END:DAYLIGHT
BEGIN:STANDARD
TZOFFSETFROM:-0400
TZOFFSETTO:-0500
TZNAME:EST
DTSTART:20261101T060000
END:STANDARD
END:VTIMEZONE
BEGIN:VEVENT
DTSTART;TZID=America/Toronto:20250412T180000
DTEND;TZID=America/Toronto:20250412T233000
DTSTAMP:20260423T220513
CREATED:20250126T014035Z
LAST-MODIFIED:20250405T232445Z
UID:9297-1744480800-1744500600@www.icct.info
SUMMARY:Thorrablót 2025
DESCRIPTION:Thorrablót 2025 is SOLD OUT\nThank you for everyone who has purchased tickets for this year’s event\, we look forward to seeing you Saturday! \n \n 
URL:https://www.icct.info/event/tblot25
LOCATION:Royal Canada Legion\, Branch 344\, 1395 Lake Shore Blvd West Toronto\, Toronto
CATEGORIES:Art,Events,Food,Genealogy,History,Music,Youth
ATTACH;FMTTYPE=image/jpeg:https://www.icct.info/wp-content/uploads/2025/01/Thorr-Icon.jpg
ORGANIZER;CN="Angela Mancini":MAILTO:contact@icct.info
END:VEVENT
BEGIN:VEVENT
DTSTART;TZID=America/Toronto:20250429T190000
DTEND;TZID=America/Toronto:20250429T210000
DTSTAMP:20260423T220513
CREATED:20250405T234340Z
LAST-MODIFIED:20250406T000052Z
UID:9401-1745953200-1745960400@www.icct.info
SUMMARY:BAKK (Reverse) (2015) by Gunnar Hansson & Davíð Óskar Ólafsson
DESCRIPTION:Our next Nordic Nights feature is the Icelandic film BAKK (Reverse) (2015) by Gunnar Hansson & Davíð Óskar Ólafsson. \nSynopsis\nTwo childhood friends decide to drive around Iceland backward to raise money for charity. Soon after they set out\, however\, they discover that perhaps this wasn’t the best idea. Nothing goes as planned – in fact\, almost everything goes wrong. \nRegistration to watch the Nordic Nights screening on Zoom is required and can be done  HERE \nTo attend the screening in person in our wonderful screening room at the TIFF building downtown\, please send an email to contact@icct.info to be put on the list and get the entry instructions.  \nNote: the Nordic Nights event is FREE but donations are welcome!\n \n\n\n\nSuggested Donation Amounts\n\n\n\nOption 1 $10.00 CAD\nOption 2 $5.00 CAD\nOption 3 $25.00 CAD\nOption 4 $100.00 CAD\n\n\n\n\n   \nPre-registration required to attend this event:\n      \n 
URL:https://www.icct.info/event/nn-apr25
LOCATION:Hybrid Screening Event
CATEGORIES:Movies
ATTACH;FMTTYPE=image/jpeg:https://www.icct.info/wp-content/uploads/2025/04/Icon-BAKK.jpg
ORGANIZER;CN="Katrine Handley-Derry":MAILTO:k.handleyderry@gmail.com
END:VEVENT
END:VCALENDAR