BEGIN:VCALENDAR
VERSION:2.0
PRODID:-//Icelandic Canadian Club of Toronto - ECPv6.15.13//NONSGML v1.0//EN
CALSCALE:GREGORIAN
METHOD:PUBLISH
X-WR-CALNAME:Icelandic Canadian Club of Toronto
X-ORIGINAL-URL:https://www.icct.info
X-WR-CALDESC:Events for Icelandic Canadian Club of Toronto
REFRESH-INTERVAL;VALUE=DURATION:PT1H
X-Robots-Tag:noindex
X-PUBLISHED-TTL:PT1H
BEGIN:VTIMEZONE
TZID:America/Toronto
BEGIN:DAYLIGHT
TZOFFSETFROM:-0500
TZOFFSETTO:-0400
TZNAME:EDT
DTSTART:20240310T070000
END:DAYLIGHT
BEGIN:STANDARD
TZOFFSETFROM:-0400
TZOFFSETTO:-0500
TZNAME:EST
DTSTART:20241103T060000
END:STANDARD
BEGIN:DAYLIGHT
TZOFFSETFROM:-0500
TZOFFSETTO:-0400
TZNAME:EDT
DTSTART:20250309T070000
END:DAYLIGHT
BEGIN:STANDARD
TZOFFSETFROM:-0400
TZOFFSETTO:-0500
TZNAME:EST
DTSTART:20251102T060000
END:STANDARD
BEGIN:DAYLIGHT
TZOFFSETFROM:-0500
TZOFFSETTO:-0400
TZNAME:EDT
DTSTART:20260308T070000
END:DAYLIGHT
BEGIN:STANDARD
TZOFFSETFROM:-0400
TZOFFSETTO:-0500
TZNAME:EST
DTSTART:20261101T060000
END:STANDARD
END:VTIMEZONE
BEGIN:VEVENT
DTSTART;TZID=America/Toronto:20250302T140000
DTEND;TZID=America/Toronto:20250302T160000
DTSTAMP:20260423T233804
CREATED:20250126T014554Z
LAST-MODIFIED:20250131T171842Z
UID:9301-1740924000-1740931200@www.icct.info
SUMMARY:2025 Travel Show and Photo Contest
DESCRIPTION:
URL:https://www.icct.info/event/travel25
LOCATION:Toronto Public Library – Parkdale Branch\, 1303 Queen St W\,\, Toronto
CATEGORIES:Art,Travel
ATTACH;FMTTYPE=image/jpeg:https://www.icct.info/wp-content/uploads/2025/01/Travel-2025-Icon-1.jpg
ORGANIZER;CN="Madeline Stapleton":MAILTO:contact@icct.info
END:VEVENT
BEGIN:VEVENT
DTSTART;TZID=America/Toronto:20250325T190000
DTEND;TZID=America/Toronto:20250325T210000
DTSTAMP:20260423T233804
CREATED:20250314T202718Z
LAST-MODIFIED:20250315T155240Z
UID:9377-1742929200-1742936400@www.icct.info
SUMMARY:Nordic Nights: Je'vida (2023) by Katja Gauriloff
DESCRIPTION:Our next Nordic Nights feature is the Finnish film Je’vida (2023) by Katja Gauriloff . \nSynopsis\nJe’vida (2023) is the story of Lida who after experiencing boarding school with a mission to assimilate Sámi children to Finnish culture moves to Southern Finland\, distancing herself completely from her Skolt Sámi background and family. When her older sister passes away\, there is a need to clear out the family homestead in Lapland. She takes this journey with her niece she has never met before. Memories\, good and bad\, come flooding back as she grapples with who she really is and where she belongs. Award winning director Katja Gauriloff’s Je’vida is the first Skolt Sámi feature film made in Finland. Filmed in black and white which lends itself perfectly for the many introspective moments in the film. \nRegistration to watch the Nordic Nights screening on Zoom is required and can be done  HERE \nTo attend the screening in person in our wonderful screening room at the TIFF building downtown\, please send an email to contact@icct.info to be put on the list and get the entry instructions.  \nNote: the Nordic Nights event is FREE but donations are welcome!\n \n\n\n\nSuggested Donation Amounts\n\n\n\nOption 1 $10.00 CAD\nOption 2 $5.00 CAD\nOption 3 $25.00 CAD\nOption 4 $100.00 CAD\n\n\n\n\n   \nPre-registration required to attend this event:\n      \n   
URL:https://www.icct.info/event/nn-mar25
CATEGORIES:Movies
ATTACH;FMTTYPE=image/jpeg:https://www.icct.info/wp-content/uploads/2025/03/jevida-icon.jpg
END:VEVENT
END:VCALENDAR