BEGIN:VCALENDAR
VERSION:2.0
PRODID:-//Icelandic Canadian Club of Toronto - ECPv6.15.13//NONSGML v1.0//EN
CALSCALE:GREGORIAN
METHOD:PUBLISH
X-ORIGINAL-URL:https://www.icct.info
X-WR-CALDESC:Events for Icelandic Canadian Club of Toronto
REFRESH-INTERVAL;VALUE=DURATION:PT1H
X-Robots-Tag:noindex
X-PUBLISHED-TTL:PT1H
BEGIN:VTIMEZONE
TZID:America/Toronto
BEGIN:DAYLIGHT
TZOFFSETFROM:-0500
TZOFFSETTO:-0400
TZNAME:EDT
DTSTART:20230312T070000
END:DAYLIGHT
BEGIN:STANDARD
TZOFFSETFROM:-0400
TZOFFSETTO:-0500
TZNAME:EST
DTSTART:20231105T060000
END:STANDARD
BEGIN:DAYLIGHT
TZOFFSETFROM:-0500
TZOFFSETTO:-0400
TZNAME:EDT
DTSTART:20240310T070000
END:DAYLIGHT
BEGIN:STANDARD
TZOFFSETFROM:-0400
TZOFFSETTO:-0500
TZNAME:EST
DTSTART:20241103T060000
END:STANDARD
BEGIN:DAYLIGHT
TZOFFSETFROM:-0500
TZOFFSETTO:-0400
TZNAME:EDT
DTSTART:20250309T070000
END:DAYLIGHT
BEGIN:STANDARD
TZOFFSETFROM:-0400
TZOFFSETTO:-0500
TZNAME:EST
DTSTART:20251102T060000
END:STANDARD
END:VTIMEZONE
BEGIN:VEVENT
DTSTART;TZID=America/Toronto:20241126T190000
DTEND;TZID=America/Toronto:20241126T210000
DTSTAMP:20260424T061855
CREATED:20241113T023332Z
LAST-MODIFIED:20241113T025912Z
UID:9231-1732647600-1732654800@www.icct.info
SUMMARY:Nordic Nights: Fallen Leaves (2023) by Aki Kaurismäki
DESCRIPTION:Our next Nordic Nights feature is the Finnish film Fallen Leaves (2023) by Aki Kaurismäki . \nSynopsis\nFallen Leaves (Kuolleet lehdet) by arguably the most well-known Finnish director\, Aki Kaurismäki\, had its Canadian premiere at TIFF last year. It is a subtly woven tale about ordinary people looking for happiness. Alma Pöysti\, seen at Nordic Nights in 2022 as the lead in TOVE\, the Tove Jansson biopic\, is Ansa\, who meets up with Holappa\, played by Jussi Vatanen and no\, sparks don’t fly\, but Kaurismäki magic happens. The title is a nod to a lovely melancholy French chanson Les Feuilles Meurtes (Autumn Leaves) and the soundtrack features\, among others\, Finnish band Maustetytöt who bring their own tinge of wistfulness to the story. As Kaurismäki himself has quipped: When all the hope is gone\, there is no reason for pessimism.   \nRegistration to watch the Nordic Nights screening on Zoom is required and can be done HERE   \nTo attend the screening in person in our wonderful screening room at the TIFF building downtown\, please send an email to contact@icct.info to be put on the list and get the entry instructions.  \nNote: the Nordic Nights event is FREE but donations are welcome!\n \n\n\n\nSuggested Donation Amounts\n\n\n\nOption 1 $10.00 CAD\nOption 2 $5.00 CAD\nOption 3 $25.00 CAD\nOption 4 $100.00 CAD\n\n\n\n\n   \nPre-registration required to attend this event:\n      \n   
URL:https://www.icct.info/event/nn2024novleaves
LOCATION:Hybrid Screening Event
CATEGORIES:Art,Events,Literature,Movies
ATTACH;FMTTYPE=image/jpeg:https://www.icct.info/wp-content/uploads/2024/11/Fallen-Leaves-Icon2-1.jpg
ORGANIZER;CN="Laura McSwiggan":MAILTO:Laura.Mcswiggan@formin.fi
END:VEVENT
END:VCALENDAR