BEGIN:VCALENDAR
VERSION:2.0
PRODID:-//Icelandic Canadian Club of Toronto - ECPv6.15.13//NONSGML v1.0//EN
CALSCALE:GREGORIAN
METHOD:PUBLISH
X-WR-CALNAME:Icelandic Canadian Club of Toronto
X-ORIGINAL-URL:https://www.icct.info
X-WR-CALDESC:Events for Icelandic Canadian Club of Toronto
REFRESH-INTERVAL;VALUE=DURATION:PT1H
X-Robots-Tag:noindex
X-PUBLISHED-TTL:PT1H
BEGIN:VTIMEZONE
TZID:America/Toronto
BEGIN:DAYLIGHT
TZOFFSETFROM:-0500
TZOFFSETTO:-0400
TZNAME:EDT
DTSTART:20230312T070000
END:DAYLIGHT
BEGIN:STANDARD
TZOFFSETFROM:-0400
TZOFFSETTO:-0500
TZNAME:EST
DTSTART:20231105T060000
END:STANDARD
BEGIN:DAYLIGHT
TZOFFSETFROM:-0500
TZOFFSETTO:-0400
TZNAME:EDT
DTSTART:20240310T070000
END:DAYLIGHT
BEGIN:STANDARD
TZOFFSETFROM:-0400
TZOFFSETTO:-0500
TZNAME:EST
DTSTART:20241103T060000
END:STANDARD
BEGIN:DAYLIGHT
TZOFFSETFROM:-0500
TZOFFSETTO:-0400
TZNAME:EDT
DTSTART:20250309T070000
END:DAYLIGHT
BEGIN:STANDARD
TZOFFSETFROM:-0400
TZOFFSETTO:-0500
TZNAME:EST
DTSTART:20251102T060000
END:STANDARD
END:VTIMEZONE
BEGIN:VEVENT
DTSTART;TZID=America/Toronto:20240615T090000
DTEND;TZID=America/Toronto:20240615T160000
DTSTAMP:20260424T135859
CREATED:20240516T011450Z
LAST-MODIFIED:20240516T130134Z
UID:9149-1718442000-1718467200@www.icct.info
SUMMARY:2024 ICCT Icelandic National Day Picnic
DESCRIPTION:National Day Picnic – Kinmount 150\nSaturday\, June 15th\, 2024\nFROM 9 AM – 4 PM\nAustin Sawmill Heritage Park Picnic Area\nSouth of the Historic Kinmount Railway Station & Icelandic Memorial\n   \n \n\n  \nYou are invited to come with family\, friends\, and fellow members to enjoy a picnic day in historic Kinmount. There is so much to see and do … \n\nVisit the historic Kinmount Railway Station with its Model Railway & Museum.\nView the Kinmount Historical Society’s special exhibit on the Icelandic settlers and learn details on how the settlers survived that first winter.\nShop in the Saturday Kinmount Farmer’s Market featuring an assortment of fresh\, baked\, organic and hot foods and goods from local farms.\nVisit the special art exhibition put on by the Kinmount Artist Guild\, whose member artists are creating original works inspired by the story of the Icelandic settlers. One-of-a-kind paintings\, pottery\, woodwork\, sculpture\, knitting and weaving will be displayed in the Artisan’s Marketplace shop on the hill. Items will be available for purchase.\nTake a walk along the peaceful Burnt River by the old Austin Sawmill\, or adventure along the Victoria-Haliburton Rail Trail all the way to Crego Creek to walk across the historic Trestle Bridge the Icelanders built in 1874\, which is still standing strong.\nJoin local historian Guy Scott on a tour of the local iron mines and see the shanty built by Icelanders right at the mines (Furnace Falls). The shanty is still standing and there is a smelter foundation and old mines as well as railway line still there from 1879.\nAn invitation has been sent to the Ontario Icelandic Horse Association who may be able to arrange to bring their wonderful Icelandic horses for us to see.\nJoin with ICCT members and Friends of Iceland Ottawa for a picnic by the beautiful Burnt River and a presentation on Kinmount 150 in memory of our ancestors and the first Icelandic settlers who came so long ago.
URL:https://www.icct.info/event/2024-icct-icelandic-national-day-picnic
LOCATION:Austin Saw Mill Park\, Kinmount Ontario
CATEGORIES:Events,Food,Genealogy,History,Music,Sports
ATTACH;FMTTYPE=image/jpeg:https://www.icct.info/wp-content/uploads/2024/05/Kinmount-150-National-Day-picnic-1.jpg
END:VEVENT
END:VCALENDAR