BEGIN:VCALENDAR
VERSION:2.0
PRODID:-//Icelandic Canadian Club of Toronto - ECPv6.15.13//NONSGML v1.0//EN
CALSCALE:GREGORIAN
METHOD:PUBLISH
X-ORIGINAL-URL:https://www.icct.info
X-WR-CALDESC:Events for Icelandic Canadian Club of Toronto
REFRESH-INTERVAL;VALUE=DURATION:PT1H
X-Robots-Tag:noindex
X-PUBLISHED-TTL:PT1H
BEGIN:VTIMEZONE
TZID:America/Toronto
BEGIN:DAYLIGHT
TZOFFSETFROM:-0500
TZOFFSETTO:-0400
TZNAME:EDT
DTSTART:20230312T070000
END:DAYLIGHT
BEGIN:STANDARD
TZOFFSETFROM:-0400
TZOFFSETTO:-0500
TZNAME:EST
DTSTART:20231105T060000
END:STANDARD
BEGIN:DAYLIGHT
TZOFFSETFROM:-0500
TZOFFSETTO:-0400
TZNAME:EDT
DTSTART:20240310T070000
END:DAYLIGHT
BEGIN:STANDARD
TZOFFSETFROM:-0400
TZOFFSETTO:-0500
TZNAME:EST
DTSTART:20241103T060000
END:STANDARD
BEGIN:DAYLIGHT
TZOFFSETFROM:-0500
TZOFFSETTO:-0400
TZNAME:EDT
DTSTART:20250309T070000
END:DAYLIGHT
BEGIN:STANDARD
TZOFFSETFROM:-0400
TZOFFSETTO:-0500
TZNAME:EST
DTSTART:20251102T060000
END:STANDARD
END:VTIMEZONE
BEGIN:VEVENT
DTSTART;TZID=America/Toronto:20240407T160000
DTEND;TZID=America/Toronto:20240407T183000
DTSTAMP:20260424T171428
CREATED:20240224T181501Z
LAST-MODIFIED:20240224T181501Z
UID:9068-1712505600-1712514600@www.icct.info
SUMMARY:Language Classes (Spring 2024)
DESCRIPTION:The 2024 Spring Session is about to begin. Classes will be held on Sundays*\, April 7\, 2024 to May 26\, 2024. (*There will be no class on Mother’s Day\, May 12\, but we will meet on Sunday of the Victoria Day weekend.): \n \n\n\nBeginners: 4:00-5:15 p.m. \nAdvanced beginners: 5:30-6:15 p.m.\n\n\n \nCost will be $75 for members and $95 for non-members. Spaces will be limited to 10 persons.\n \nLet us know if you are interested by emailing:  classes@icct.info 
URL:https://www.icct.info/event/language-classes-spring-2024
LOCATION:On line
CATEGORIES:Language
ATTACH;FMTTYPE=image/jpeg:https://www.icct.info/wp-content/uploads/2024/02/Classes-Logo.jpg
ORGANIZER;CN="Peggy McFarlane (Language Director)":MAILTO:classes@icct.info
END:VEVENT
BEGIN:VEVENT
DTSTART;TZID=America/Toronto:20240413T180000
DTEND;TZID=America/Toronto:20240413T230000
DTSTAMP:20260424T171428
CREATED:20240209T013324Z
LAST-MODIFIED:20240209T134713Z
UID:9007-1713031200-1713049200@www.icct.info
SUMMARY:Thorrablót 2024
DESCRIPTION:Come and enjoy Icelandic food\, musical entertainment\, children’s crafts\, a chance to bid on great items in our Silent and Live Auctions. Special guests -the Sygtryggring Vikings. Celebrate Kinmount 150 with guest speaker\, historian Guy Scott. Be part of the incredible camaraderie and fun of Þorrablót. Bring the whole family! \nSaturday\, April 13th\, 2024\n Location: The Latvian Centre 4 Credit Union Dr. Toronto (Eglinton east of the DVP)\nAppetizers\, Cash Bar 6:00 PM\, Dinner 7:30 PM\, Free Parking \n  \nEarly Bird prices (before March 24th): \nMembers: Adults $75\, Children 12 & under $20\, Students 13-24  $35 \nNon-Members: Adults $100\, Children 12 & under $40\, Students 13-24 $50 \nRegular prices: \nMembers: Adults $90\, Children 12 & under $30\, Students 13-24  $40 \nNon-Members: Adults $130\, Children 12 & under $45\, Students 13-24 $55 \n  \n**There are no event day ticket sales. Tickets are available while space permits. \nFor Tickets: Thorrablót 2024 Order Form
URL:https://www.icct.info/event/thorrablot2024
LOCATION:Latvian Centre\, 4 Credit Union Drive\, Toronto\, Ontario\, M4A 2N8\, Canada
ATTACH;FMTTYPE=image/jpeg:https://www.icct.info/wp-content/uploads/2023/01/Thorrablot-dateless-squre-icon-cropped-300x300-1.jpg
END:VEVENT
END:VCALENDAR