BEGIN:VCALENDAR
VERSION:2.0
PRODID:-//Icelandic Canadian Club of Toronto - ECPv6.15.13//NONSGML v1.0//EN
CALSCALE:GREGORIAN
METHOD:PUBLISH
X-ORIGINAL-URL:https://www.icct.info
X-WR-CALDESC:Events for Icelandic Canadian Club of Toronto
REFRESH-INTERVAL;VALUE=DURATION:PT1H
X-Robots-Tag:noindex
X-PUBLISHED-TTL:PT1H
BEGIN:VTIMEZONE
TZID:America/Toronto
BEGIN:DAYLIGHT
TZOFFSETFROM:-0500
TZOFFSETTO:-0400
TZNAME:EDT
DTSTART:20230312T070000
END:DAYLIGHT
BEGIN:STANDARD
TZOFFSETFROM:-0400
TZOFFSETTO:-0500
TZNAME:EST
DTSTART:20231105T060000
END:STANDARD
BEGIN:DAYLIGHT
TZOFFSETFROM:-0500
TZOFFSETTO:-0400
TZNAME:EDT
DTSTART:20240310T070000
END:DAYLIGHT
BEGIN:STANDARD
TZOFFSETFROM:-0400
TZOFFSETTO:-0500
TZNAME:EST
DTSTART:20241103T060000
END:STANDARD
BEGIN:DAYLIGHT
TZOFFSETFROM:-0500
TZOFFSETTO:-0400
TZNAME:EDT
DTSTART:20250309T070000
END:DAYLIGHT
BEGIN:STANDARD
TZOFFSETFROM:-0400
TZOFFSETTO:-0500
TZNAME:EST
DTSTART:20251102T060000
END:STANDARD
END:VTIMEZONE
BEGIN:VEVENT
DTSTART;TZID=America/Toronto:20240303T160000
DTEND;TZID=America/Toronto:20240303T170000
DTSTAMP:20260424T184844
CREATED:20240211T195728Z
LAST-MODIFIED:20240211T212529Z
UID:9044-1709481600-1709485200@www.icct.info
SUMMARY:INLNA Reads
DESCRIPTION:SARAH TOLMIE’S  ALL THE HORSES OF ICELAND \nEveryone knows of the horses of Iceland\, wild\, and small\, and free\, but few have heard their story. Sarah Tolmie’s All the Horses of Iceland weaves their mystical origin into a saga for the modern age. Filled with the magic and darkened whispers of a people on the cusp of major cultural change\, All the Horses of Iceland tells the tale of a Norse trader\, his travels through Central Asia\, and the ghostly magic that followed him home to the land of fire\, stone\, and ice. His search for riches will take him from Helmgard\, through Khazaria\, to the steppes of Mongolia\, where he will barter for horses and return with much\, much more. All the Horses of Iceland is a delve into the secret\, imagined history of Iceland’s unusual horses\, brought to life by an expert storyteller. (Macmillan) \n\n\nRegistration: \nCheck back here for registration information once set up by INLNA
URL:https://www.icct.info/event/inlna-reads
LOCATION:On line through Zoom
ATTACH;FMTTYPE=image/jpeg:https://www.icct.info/wp-content/uploads/2024/02/INL-Reads-icon.jpg
END:VEVENT
BEGIN:VEVENT
DTSTART;TZID=America/Toronto:20240321T193000
DTEND;TZID=America/Toronto:20240321T210000
DTSTAMP:20260424T184844
CREATED:20240209T020928Z
LAST-MODIFIED:20240317T181812Z
UID:9009-1711049400-1711054800@www.icct.info
SUMMARY:Saga Connections 4.1 "Lines of Flight" with Julie Salverson
DESCRIPTION:Our first webinar for the 2024 season will be coming up on Thursday\, March 21st\, 2024\, at 7:30 pm EST and features Professor Julie Salverson and her book “Lines of Flight: An Atomic Memoir.” \n \nAbout Sage Connections: \nJulie Salverson is an Professor of Drama at Queen’s University\, Kingston\, and an Adjunct Professor at the Royal Military College of Canada. She is an author\, playwright\, producer\, and community animator who works with groups to overcome trauma and enhance resiliency through the exchange and development of stories. Julie discovered the story of a group of Dene (who lived on the shores of the Great Bear Lake where uranium was mined for the 1945 atomic bombs) who had gone to Japan to apologize for their actions. In her book\, Salverson traces the journey of the uranium from Canada to New Mexico and onto Japan. \nAlong the way\, she examines the impact on the communities. Amazon reviewer comments how\, “Questions of forgiveness\, and the blurry lines between victim and perpetrator are addressed in a way that offers healing\, but no simple answers. The result is unexpected beauty and hard-won insights that ripple through this narrative like stones dropped on still water as Salverson charts the influence nuclear arms have had on her own life and the lives of those touched by the various traumas of war\, atomic or otherwise.” Salverson takes the reader on a journey from despair to hope and connection. \nJulie is the granddaughter of the famous Icelandic-Canadian writer Laura Goodman-Salverson. She is currently working on a biography of her father\, in which her grandmother features\, and we may have the chance to hear a little about this upcoming book. \n  \nPre-registration is required for this seminar hosted on the Zoom platform. Register HERE
URL:https://www.icct.info/event/saga-connections-4-1-lines-of-flight-with-julie-salverson
LOCATION:On line through Zoom
ATTACH;FMTTYPE=image/png:https://www.icct.info/wp-content/uploads/2024/02/Saga-Connections.png
END:VEVENT
BEGIN:VEVENT
DTSTART;TZID=America/Toronto:20240326T190000
DTEND;TZID=America/Toronto:20240326T210000
DTSTAMP:20260424T184844
CREATED:20240314T024925Z
LAST-MODIFIED:20240315T024753Z
UID:9084-1711479600-1711486800@www.icct.info
SUMMARY:Nordic Nights: Homecoming (2023) by Suvi West
DESCRIPTION:Our next Nordic Nights feature is a Finnish film from 2023: Homecoming\, by Suvi West  \nSynopsis\nHomecoming (Máhccan – Kotiinpaluu) 2023 had its world premiere at the Toronto International Film Festival to enthusiastic audiences. The film follows the return of Sámi artefacts from the National Museum of Finland in Helsinki to the Sámi Museum Siida in Inari\, Finland. Director Suvi West\, who is Sámi herself\, and co-director and cinematographer Anssi Kömi make the emotional and poignant journey and continue to search for more items in European museums. According to West the project produces answers to questions she has not even thought of yet. A deep connection and continuous dialogue with ancestors is a constant throughout the film. Registration to watch the Nordic Nights screening on Zoom is required and can be done HERE    \nNote: the Nordic Nights event is FREE but donations are welcome!\n \n\n\n\nSuggested Donation Amounts\n\n\n\nOption 1 $10.00 CAD\nOption 2 $5.00 CAD\nOption 3 $25.00 CAD\nOption 4 $100.00 CAD\n\n\n\n\n   \nPre-registration required to attend this event:\n      \n 
URL:https://www.icct.info/event/nordic-nights-homecoming-2003-by-suvi-west
LOCATION:Hybrid Screening Event
CATEGORIES:Movies
ATTACH;FMTTYPE=image/jpeg:https://www.icct.info/wp-content/uploads/2024/03/Homecoming-icon.jpg
ORGANIZER;CN="Laura McSwiggan":MAILTO:Laura.Mcswiggan@formin.fi
END:VEVENT
END:VCALENDAR