BEGIN:VCALENDAR
VERSION:2.0
PRODID:-//Icelandic Canadian Club of Toronto - ECPv6.15.13//NONSGML v1.0//EN
CALSCALE:GREGORIAN
METHOD:PUBLISH
X-WR-CALNAME:Icelandic Canadian Club of Toronto
X-ORIGINAL-URL:https://www.icct.info
X-WR-CALDESC:Events for Icelandic Canadian Club of Toronto
REFRESH-INTERVAL;VALUE=DURATION:PT1H
X-Robots-Tag:noindex
X-PUBLISHED-TTL:PT1H
BEGIN:VTIMEZONE
TZID:America/Toronto
BEGIN:DAYLIGHT
TZOFFSETFROM:-0500
TZOFFSETTO:-0400
TZNAME:EDT
DTSTART:20230312T070000
END:DAYLIGHT
BEGIN:STANDARD
TZOFFSETFROM:-0400
TZOFFSETTO:-0500
TZNAME:EST
DTSTART:20231105T060000
END:STANDARD
BEGIN:DAYLIGHT
TZOFFSETFROM:-0500
TZOFFSETTO:-0400
TZNAME:EDT
DTSTART:20240310T070000
END:DAYLIGHT
BEGIN:STANDARD
TZOFFSETFROM:-0400
TZOFFSETTO:-0500
TZNAME:EST
DTSTART:20241103T060000
END:STANDARD
BEGIN:DAYLIGHT
TZOFFSETFROM:-0500
TZOFFSETTO:-0400
TZNAME:EDT
DTSTART:20250309T070000
END:DAYLIGHT
BEGIN:STANDARD
TZOFFSETFROM:-0400
TZOFFSETTO:-0500
TZNAME:EST
DTSTART:20251102T060000
END:STANDARD
END:VTIMEZONE
BEGIN:VEVENT
DTSTART;TZID=America/Toronto:20240227T190000
DTEND;TZID=America/Toronto:20240227T210000
DTSTAMP:20260424T202056
CREATED:20240211T201556Z
LAST-MODIFIED:20240211T202206Z
UID:9047-1709060400-1709067600@www.icct.info
SUMMARY:Nordic Nights: Volcano by Rúnar Rúnarsson (2011)
DESCRIPTION:Our next Nordic Nights feature is an Icelandic film from 2011: Volcano\, by Rúnar Rúnarsson  \nSynopsis\nHannes is estranged from his family\, hardly has any friends and the relationship to his wife has faded. Through drastic events\, Hannes realizes that he has to adjust his life in order to help someone he loves. Volcano is a coming of age love story of a 67-year-old man and about dealing with the choices of the past and the difficulties of the present in order to embrace the future. \nRegistration to watch the Nordic Nights screening on Zoom is required and can be done HERE    \nNote: the Nordic Nights event is FREE but donations are welcome!\n \n\n\n\nSuggested Donation Amounts\n\n\n\nOption 1 $10.00 CAD\nOption 2 $5.00 CAD\nOption 3 $25.00 CAD\nOption 4 $100.00 CAD\n\n\n\n\n   \nPre-registration required to attend this event:\n      \n 
URL:https://www.icct.info/event/nordic-nights-volcano-by-runar-runarsson-2011
LOCATION:Hybrid Screening Event
CATEGORIES:Movies
ATTACH;FMTTYPE=image/jpeg:https://www.icct.info/wp-content/uploads/2024/02/NN-Volcano-icon.jpg
END:VEVENT
END:VCALENDAR