BEGIN:VCALENDAR
VERSION:2.0
PRODID:-//Icelandic Canadian Club of Toronto - ECPv6.15.13//NONSGML v1.0//EN
CALSCALE:GREGORIAN
METHOD:PUBLISH
X-ORIGINAL-URL:https://www.icct.info
X-WR-CALDESC:Events for Icelandic Canadian Club of Toronto
REFRESH-INTERVAL;VALUE=DURATION:PT1H
X-Robots-Tag:noindex
X-PUBLISHED-TTL:PT1H
BEGIN:VTIMEZONE
TZID:America/Toronto
BEGIN:DAYLIGHT
TZOFFSETFROM:-0500
TZOFFSETTO:-0400
TZNAME:EDT
DTSTART:20220313T070000
END:DAYLIGHT
BEGIN:STANDARD
TZOFFSETFROM:-0400
TZOFFSETTO:-0500
TZNAME:EST
DTSTART:20221106T060000
END:STANDARD
BEGIN:DAYLIGHT
TZOFFSETFROM:-0500
TZOFFSETTO:-0400
TZNAME:EDT
DTSTART:20230312T070000
END:DAYLIGHT
BEGIN:STANDARD
TZOFFSETFROM:-0400
TZOFFSETTO:-0500
TZNAME:EST
DTSTART:20231105T060000
END:STANDARD
BEGIN:DAYLIGHT
TZOFFSETFROM:-0500
TZOFFSETTO:-0400
TZNAME:EDT
DTSTART:20240310T070000
END:DAYLIGHT
BEGIN:STANDARD
TZOFFSETFROM:-0400
TZOFFSETTO:-0500
TZNAME:EST
DTSTART:20241103T060000
END:STANDARD
END:VTIMEZONE
BEGIN:VEVENT
DTSTART;TZID=America/Toronto:20231205T190000
DTEND;TZID=America/Toronto:20231205T210000
DTSTAMP:20260424T233335
CREATED:20231118T170555Z
LAST-MODIFIED:20231118T172420Z
UID:8915-1701802800-1701810000@www.icct.info
SUMMARY:Nordic Nights: Driving Mum\, by Hilmar Oddsson
DESCRIPTION:Our next Nordic Nights feature is an Icelandic film from 2022: Driving Mum\, by Hilmar Oddsson.  \n\n\n\nWhen Jon’s mother\, the single most dominant person in his life passes away\, his anchor is gone. Compelled to honour her last wish\, he takes on a journey to bring the body across Iceland to her home village for the final rest. As they travel on\, Jon’s whole existence obtains a new meaning. \nPlease join us for a group discussion (with our in person and on-line guests) after the screening. \n\n\n\nThis Nordic Nights screening will be a hybrid event with a limited number of in-person attendees and also simultaneously streamed on-line through Zoom. Use the Zoom registration link to register to the event and let us know whether you would like to attend the movie screening in person. Attendees will be chosen first come first serve until the limited number of spots is full. \n\n\n\nRegistration to watch the Nordic Nights screening on Zoom is required and can be done HERE  \n\n\n\n\n\nNote: the Nordic Nights event is FREE but donations are welcome!\n \n\n\n\nSuggested Donation Amounts\n\n\n\nOption 1 $10.00 CAD\nOption 2 $5.00 CAD\nOption 3 $25.00 CAD\nOption 4 $100.00 CAD\n\n\n\n\n   \nPre-registration required to attend this event:\n      \n 
URL:https://www.icct.info/event/nn-mum
LOCATION:Hybrid Screening Event
ATTACH;FMTTYPE=image/jpeg:https://www.icct.info/wp-content/uploads/2023/11/driving-mum-icon.jpg
END:VEVENT
BEGIN:VEVENT
DTSTART;TZID=America/Toronto:20231217T140000
DTEND;TZID=America/Toronto:20231217T160000
DTSTAMP:20260424T233335
CREATED:20231022T160748Z
LAST-MODIFIED:20231216T151155Z
UID:8889-1702821600-1702828800@www.icct.info
SUMMARY:2023 ICCT Christmas Gathering!
DESCRIPTION:Our annual Christmas event was postponed but is back and in a new location. Please join us on Sunday December 17th at the home of our President Gwen Sigrid Morgan for mulled wine and fine Icelandic Canadian fellowship.  \nCalendars will be on sale as will be Betty Jane’s book — so lots of opportunities to pick up those last minute gift items! \nPlease sign up below to get the location details.  \n \n 
URL:https://www.icct.info/event/2023-icct-christmas-party
LOCATION:Gwen Morgan’s Home\, Toronto\, ON\, Canada
CATEGORIES:Events,Food,Music,Youth
ATTACH;FMTTYPE=image/jpeg:https://www.icct.info/wp-content/uploads/2023/10/ICCT-Christma-Jol-2023-notice-_-revised.jpg
END:VEVENT
END:VCALENDAR