BEGIN:VCALENDAR
VERSION:2.0
PRODID:-//Icelandic Canadian Club of Toronto - ECPv6.15.13//NONSGML v1.0//EN
CALSCALE:GREGORIAN
METHOD:PUBLISH
X-ORIGINAL-URL:https://www.icct.info
X-WR-CALDESC:Events for Icelandic Canadian Club of Toronto
REFRESH-INTERVAL;VALUE=DURATION:PT1H
X-Robots-Tag:noindex
X-PUBLISHED-TTL:PT1H
BEGIN:VTIMEZONE
TZID:America/Toronto
BEGIN:DAYLIGHT
TZOFFSETFROM:-0500
TZOFFSETTO:-0400
TZNAME:EDT
DTSTART:20220313T070000
END:DAYLIGHT
BEGIN:STANDARD
TZOFFSETFROM:-0400
TZOFFSETTO:-0500
TZNAME:EST
DTSTART:20221106T060000
END:STANDARD
BEGIN:DAYLIGHT
TZOFFSETFROM:-0500
TZOFFSETTO:-0400
TZNAME:EDT
DTSTART:20230312T070000
END:DAYLIGHT
BEGIN:STANDARD
TZOFFSETFROM:-0400
TZOFFSETTO:-0500
TZNAME:EST
DTSTART:20231105T060000
END:STANDARD
BEGIN:DAYLIGHT
TZOFFSETFROM:-0500
TZOFFSETTO:-0400
TZNAME:EDT
DTSTART:20240310T070000
END:DAYLIGHT
BEGIN:STANDARD
TZOFFSETFROM:-0400
TZOFFSETTO:-0500
TZNAME:EST
DTSTART:20241103T060000
END:STANDARD
END:VTIMEZONE
BEGIN:VEVENT
DTSTART;TZID=America/Toronto:20230118T193000
DTEND;TZID=America/Toronto:20230118T210000
DTSTAMP:20260425T162640
CREATED:20220905T044104Z
LAST-MODIFIED:20221116T225350Z
UID:8492-1674070200-1674075600@www.icct.info
SUMMARY:Saga Connections 3.1: Georgina Rayner\, Memories
DESCRIPTION:EVENT RESCHEDLED (JANUARY 18)\nWe apologize about the inconvenience.  \nPlease join us online for our Saga Connections webinars featuring Georgina Rayner\, Memories. Georgina has a reputation for giving lively talks and will be sharing a few of the inspiring stories from her mother’s diaries. You can find a review of the published book in our Fálkinn summer issue. Georgina will also be telling us how she organized the mass of papers and notebooks her mother left\, and where she researched to augment personal memories. She will answer our questions on how to search our family roots. Register online for this free seminar. \nPre registration is required for this seminar hosted on the Zoom platform. Register HERE  \n \n  \n 
URL:https://www.icct.info/event/saga-connections-3-1-georgina-rayner-memories
LOCATION:On line
CATEGORIES:Art,Genealogy,Literature
ATTACH;FMTTYPE=image/jpeg:https://www.icct.info/wp-content/uploads/2022/09/3.1-Title-Slide-Memories.jpg
END:VEVENT
BEGIN:VEVENT
DTSTART;TZID=America/Toronto:20230131T190000
DTEND;TZID=America/Toronto:20230131T210000
DTSTAMP:20260425T162640
CREATED:20230114T152008Z
LAST-MODIFIED:20230114T152704Z
UID:8729-1675191600-1675198800@www.icct.info
SUMMARY:Nordic Nights: The Other Side of Hope (2017)
DESCRIPTION:Our next Nordic Nights feature is Finnish-German film from 2017: The Other Side of Hope by Aki Kaurismäki . \nThe film consists of two stories that by chance intersect at the forty-minute mark. The first one is about Khaled\, a young Syrian refugee who has lost virtually all of his family. Almost by accident\, he drifts to Helsinki as a stowaway passenger on a collier to seek asylum without great hopes for his future life. \nWikström\, the other protagonist\, is a travelling salesman of about fifty (representing mainly men’s shirts and ties). In the beginning of the film he leaves his alcoholic wife and his profession and turns momentarily into a poker shark. With the small amount of money he thus gains he then buys an unprofitable restaurant at the far end of an inner court along a back street in Helsinki. \nWhen the authorities decide to return Khaled to the ruins of Aleppo he\, just like many others\, decides to stay illegally in the country and disappears into the streets of Helsinki. There he meets\, besides various types of racism\, also pure kindness. Finally Wikström finds our fellow sleeping in the inner yard of his restaurant. Perhaps he sees something of himself in the battered man because he hires Khaled as a cleaner and a dishwasher. \nFor a moment life shows us its sunnier side\, but fate soon intervenes and the film concludes with an open ending leading either to a respectable life or to the cemetery. For a person driven into a corner\, both have their merits. \nRegistration to watch the Nordic Nights screening of the County on Zoom is required and can be done HERE  \n  \nNote: the Nordic Nights event is FREE but donations are welcome!\n\n \n\n\n\nSuggested Donation Amounts\n\n\nOption 1 $10.00 CADOption 2 $5.00 CADOption 3 $25.00 CADOption 4 $100.00 CAD\n\n\n\n\n \n  \nPre-registration required to attend this event:\n \n  \n \n 
URL:https://www.icct.info/event/tosoh
LOCATION:On line
ATTACH;FMTTYPE=image/jpeg:https://www.icct.info/wp-content/uploads/2023/01/Other-Side-Icon.jpg
ORGANIZER;CN="Laura McSwiggan":MAILTO:Laura.Mcswiggan@formin.fi
END:VEVENT
END:VCALENDAR