BEGIN:VCALENDAR
VERSION:2.0
PRODID:-//Icelandic Canadian Club of Toronto - ECPv6.15.13//NONSGML v1.0//EN
CALSCALE:GREGORIAN
METHOD:PUBLISH
X-ORIGINAL-URL:https://www.icct.info
X-WR-CALDESC:Events for Icelandic Canadian Club of Toronto
REFRESH-INTERVAL;VALUE=DURATION:PT1H
X-Robots-Tag:noindex
X-PUBLISHED-TTL:PT1H
BEGIN:VTIMEZONE
TZID:America/Toronto
BEGIN:DAYLIGHT
TZOFFSETFROM:-0500
TZOFFSETTO:-0400
TZNAME:EDT
DTSTART:20230312T070000
END:DAYLIGHT
BEGIN:STANDARD
TZOFFSETFROM:-0400
TZOFFSETTO:-0500
TZNAME:EST
DTSTART:20231105T060000
END:STANDARD
BEGIN:DAYLIGHT
TZOFFSETFROM:-0500
TZOFFSETTO:-0400
TZNAME:EDT
DTSTART:20240310T070000
END:DAYLIGHT
BEGIN:STANDARD
TZOFFSETFROM:-0400
TZOFFSETTO:-0500
TZNAME:EST
DTSTART:20241103T060000
END:STANDARD
BEGIN:DAYLIGHT
TZOFFSETFROM:-0500
TZOFFSETTO:-0400
TZNAME:EDT
DTSTART:20250309T070000
END:DAYLIGHT
BEGIN:STANDARD
TZOFFSETFROM:-0400
TZOFFSETTO:-0500
TZNAME:EST
DTSTART:20251102T060000
END:STANDARD
END:VTIMEZONE
BEGIN:VEVENT
DTSTART;TZID=America/Toronto:20241029T190000
DTEND;TZID=America/Toronto:20241029T210000
DTSTAMP:20260424T085539
CREATED:20241025T132345Z
LAST-MODIFIED:20241025T133514Z
UID:9217-1730228400-1730235600@www.icct.info
SUMMARY:Nordic Nights: Raise the Bar (2021) by Guðjón Ragnarsson
DESCRIPTION:Our next Nordic Nights feature (and first of the new 2024-2025 season!) is the Icelandic film Raise the Bar (2021) by Guðjón Ragnarsson. \nSynopsis\nA girls’ basketball team aims to break down cultural barriers. Their training program is intense and controversial\, and they are led by an overqualified and unusual coach who constantly raises the bar. The team achieves remarkable results and the girls are becoming strong\, independent\, and are ready to change the world. But is the world ready? \n  \nRegistration to watch the Nordic Nights screening on Zoom is required and can be done HERE \n  \nTo attend the screening in person in our wonderful screening room at the TIFF building downtown\, please send an email to contact@icct.info to be put on the list and get the entry instructions.  \nNote: the Nordic Nights event is FREE but donations are welcome!\n \n\n\n\nSuggested Donation Amounts\n\n\n\nOption 1 $10.00 CAD\nOption 2 $5.00 CAD\nOption 3 $25.00 CAD\nOption 4 $100.00 CAD\n\n\n\n\n   \nPre-registration required to attend this event:\n      \n   
URL:https://www.icct.info/event/2024octbar
LOCATION:Hybrid Screening Event
CATEGORIES:Movies,Sports,Youth
ATTACH;FMTTYPE=image/jpeg:https://www.icct.info/wp-content/uploads/2024/10/Raise-the-Bar-Icon.jpg
ORGANIZER;CN="Katrine Handley-Derry":MAILTO:k.handleyderry@gmail.com
END:VEVENT
END:VCALENDAR