BEGIN:VCALENDAR
VERSION:2.0
PRODID:-//Icelandic Canadian Club of Toronto - ECPv6.15.13//NONSGML v1.0//EN
CALSCALE:GREGORIAN
METHOD:PUBLISH
X-WR-CALNAME:Icelandic Canadian Club of Toronto
X-ORIGINAL-URL:https://www.icct.info
X-WR-CALDESC:Events for Icelandic Canadian Club of Toronto
REFRESH-INTERVAL;VALUE=DURATION:PT1H
X-Robots-Tag:noindex
X-PUBLISHED-TTL:PT1H
BEGIN:VTIMEZONE
TZID:America/Toronto
BEGIN:DAYLIGHT
TZOFFSETFROM:-0500
TZOFFSETTO:-0400
TZNAME:EDT
DTSTART:20210314T070000
END:DAYLIGHT
BEGIN:STANDARD
TZOFFSETFROM:-0400
TZOFFSETTO:-0500
TZNAME:EST
DTSTART:20211107T060000
END:STANDARD
BEGIN:DAYLIGHT
TZOFFSETFROM:-0500
TZOFFSETTO:-0400
TZNAME:EDT
DTSTART:20220313T070000
END:DAYLIGHT
BEGIN:STANDARD
TZOFFSETFROM:-0400
TZOFFSETTO:-0500
TZNAME:EST
DTSTART:20221106T060000
END:STANDARD
BEGIN:DAYLIGHT
TZOFFSETFROM:-0500
TZOFFSETTO:-0400
TZNAME:EDT
DTSTART:20230312T070000
END:DAYLIGHT
BEGIN:STANDARD
TZOFFSETFROM:-0400
TZOFFSETTO:-0500
TZNAME:EST
DTSTART:20231105T060000
END:STANDARD
END:VTIMEZONE
BEGIN:VEVENT
DTSTART;TZID=America/Toronto:20221204T140000
DTEND;TZID=America/Toronto:20221204T160000
DTSTAMP:20260425T192952
CREATED:20221114T233308Z
LAST-MODIFIED:20221116T024634Z
UID:8630-1670162400-1670169600@www.icct.info
SUMMARY:ICCT Jól – Christmas - Party 2022
DESCRIPTION:December 4th 2pm-4pm \n4 Morningside Ave. (near High Park) \nCome celebrate the holiday season with Icelandic traditions including Jólabókaflóðið (the book flood of Christmas). Betty Jane Wylie’s book on our Western Icelandic heritage will be available: Letters to Icelanders: Exploring the Northern Soul.   \nYou might find the cantankerous Yule Cat\, Jólakötturinn\, lurking in a corner. There will be warm beverages for all. Cookie decorating. If you bring along food item to share\,  it would be most welcome.
URL:https://www.icct.info/event/icct-jol-christmas-party-2022
LOCATION:Morningside High Park Presbyterian Church\, 4 Morningside Ave\, Toronto\, ON\, Canada
CATEGORIES:Events,Food,Music,Youth
ATTACH;FMTTYPE=image/jpeg:https://www.icct.info/wp-content/uploads/2022/11/2022-Christmas-Icon.jpg
END:VEVENT
END:VCALENDAR