BEGIN:VCALENDAR
VERSION:2.0
PRODID:-//Icelandic Canadian Club of Toronto - ECPv6.15.13//NONSGML v1.0//EN
CALSCALE:GREGORIAN
METHOD:PUBLISH
X-WR-CALNAME:Icelandic Canadian Club of Toronto
X-ORIGINAL-URL:https://www.icct.info
X-WR-CALDESC:Events for Icelandic Canadian Club of Toronto
REFRESH-INTERVAL;VALUE=DURATION:PT1H
X-Robots-Tag:noindex
X-PUBLISHED-TTL:PT1H
BEGIN:VTIMEZONE
TZID:America/Toronto
BEGIN:DAYLIGHT
TZOFFSETFROM:-0500
TZOFFSETTO:-0400
TZNAME:EDT
DTSTART:20250309T070000
END:DAYLIGHT
BEGIN:STANDARD
TZOFFSETFROM:-0400
TZOFFSETTO:-0500
TZNAME:EST
DTSTART:20251102T060000
END:STANDARD
BEGIN:DAYLIGHT
TZOFFSETFROM:-0500
TZOFFSETTO:-0400
TZNAME:EDT
DTSTART:20260308T070000
END:DAYLIGHT
BEGIN:STANDARD
TZOFFSETFROM:-0400
TZOFFSETTO:-0500
TZNAME:EST
DTSTART:20261101T060000
END:STANDARD
BEGIN:DAYLIGHT
TZOFFSETFROM:-0500
TZOFFSETTO:-0400
TZNAME:EDT
DTSTART:20270314T070000
END:DAYLIGHT
BEGIN:STANDARD
TZOFFSETFROM:-0400
TZOFFSETTO:-0500
TZNAME:EST
DTSTART:20271107T060000
END:STANDARD
END:VTIMEZONE
BEGIN:VEVENT
DTSTART;TZID=America/Toronto:20260331T190000
DTEND;TZID=America/Toronto:20260331T210000
DTSTAMP:20260423T044902
CREATED:20260315T013115Z
LAST-MODIFIED:20260315T023053Z
UID:9652-1774983600-1774990800@www.icct.info
SUMMARY:Nordic Nights: Long Good Thursday (2024) by Mika Kaurismäki
DESCRIPTION:Our next Nordic Nights feature is Long Good Thursday (Mielensäpahoittajan rakkaustarina) (2024) a Finnish film by Mika Kaurismäki. \nSynopsis\nA screen adaptation by director Mika Kaurismäki of Finnish author Tuomas Kyrö’s latest novel about lifelong grouch\, who this time does the unthinkable and falls in love.  A chance encounter in the supermarket leads him to Saimi\, who is a free spirit ready to challenge his set-in ways.  Family and friends have their different views on romance at an advanced age\, and yes there will be twists and turns in this love story. \n Mika Kaurismäki’s earlier film adaptation of a Grump novel\,  The Grump: In Search of an Escort was seen at Nordic Nights in 2023 and Long Good Thursday keeps looking at life with the same gentle humour. \nWinner of Audience Choice Award at Chigaco International Film Festival \n“It was a lovely character study of love and affection continuing to exist in maturity.” (Weekly Wilson) \nTrailer \nReview on Sparklyprettybriiiight.com \n  \nRegistration to watch the Nordic Nights screening on Zoom is required and can be done  HERE      \nNOTE: Due to restrictions from the distributor\, this Nordic Nights screening is only available to viewers located in Canada \n  \nTo attend the screening in person in our wonderful screening room at the TIFF building downtown\, please send an email to contact@icct.info to be put on the list and get the entry instructions.  \nNote: the Nordic Nights event is FREE but donations are welcome!\n\n\nDonate to Nordic Nights\n\n\n \n\nPre-registration required to attend this event:
URL:https://www.icct.info/event/nn0326
LOCATION:Hybrid Screening Event
CATEGORIES:Movies
ORGANIZER;CN="Laura McSwiggan":MAILTO:Laura.Mcswiggan@formin.fi
END:VEVENT
END:VCALENDAR