BEGIN:VCALENDAR
VERSION:2.0
PRODID:-//Icelandic Canadian Club of Toronto - ECPv6.15.13//NONSGML v1.0//EN
CALSCALE:GREGORIAN
METHOD:PUBLISH
X-ORIGINAL-URL:https://www.icct.info
X-WR-CALDESC:Events for Icelandic Canadian Club of Toronto
REFRESH-INTERVAL;VALUE=DURATION:PT1H
X-Robots-Tag:noindex
X-PUBLISHED-TTL:PT1H
BEGIN:VTIMEZONE
TZID:America/Toronto
BEGIN:DAYLIGHT
TZOFFSETFROM:-0500
TZOFFSETTO:-0400
TZNAME:EDT
DTSTART:20240310T070000
END:DAYLIGHT
BEGIN:STANDARD
TZOFFSETFROM:-0400
TZOFFSETTO:-0500
TZNAME:EST
DTSTART:20241103T060000
END:STANDARD
BEGIN:DAYLIGHT
TZOFFSETFROM:-0500
TZOFFSETTO:-0400
TZNAME:EDT
DTSTART:20250309T070000
END:DAYLIGHT
BEGIN:STANDARD
TZOFFSETFROM:-0400
TZOFFSETTO:-0500
TZNAME:EST
DTSTART:20251102T060000
END:STANDARD
BEGIN:DAYLIGHT
TZOFFSETFROM:-0500
TZOFFSETTO:-0400
TZNAME:EDT
DTSTART:20260308T070000
END:DAYLIGHT
BEGIN:STANDARD
TZOFFSETFROM:-0400
TZOFFSETTO:-0500
TZNAME:EST
DTSTART:20261101T060000
END:STANDARD
END:VTIMEZONE
BEGIN:VEVENT
DTSTART;TZID=America/Toronto:20250930T190000
DTEND;TZID=America/Toronto:20250930T210000
DTSTAMP:20260423T141125
CREATED:20250830T235207Z
LAST-MODIFIED:20251019T150451Z
UID:9448-1759258800-1759266000@www.icct.info
SUMMARY:Nordic Nights: Virgin Mountain\, by Dagur Kári (2015)
DESCRIPTION:Our next Nordic Nights feature is the Icelandic film Virgin Mountain (2015) by Dagur Kári. \nSynopsis\nThis Icelandic dramedy tells the story of Fúsi\, a gentle giant in his mid-40s whose life has been a little stuck—but that’s about to change. When he starts a course at a local aerobics class\, his quiet world collides with love\, awkwardness\, and the unexpected joys of stepping out of your comfort zone. Directed by Dagur Kári\, Virgin Mountain is a heartfelt\, funny\, and tender portrait of one man’s journey toward connection and self-discovery. Perfect for fans of quirky\, character-driven stories with heart. \nRegistration to watch the Nordic Nights screening on Zoom is required and can be done  HERE \nTo attend the screening in person in our wonderful screening room at the TIFF building downtown\, please send an email to contact@icct.info to be put on the list and get the entry instructions.  \nNote: the Nordic Nights event is FREE but donations are welcome!\n \n\n\n\nSuggested Donation Amounts\n\n\n\nOption 1 $10.00 CAD\nOption 2 $5.00 CAD\nOption 3 $25.00 CAD\nOption 4 $100.00 CAD\n\n\n\n\n   \nPre-registration required to attend this event:\n      \n 
URL:https://www.icct.info/event/nn-sep25
LOCATION:Hybrid Screening Event
CATEGORIES:Movies
ATTACH;FMTTYPE=image/jpeg:https://www.icct.info/wp-content/uploads/2025/08/Virgin-squre-icon-cropped.jpg
ORGANIZER;CN="Katrine Handley-Derry":MAILTO:k.handleyderry@gmail.com
END:VEVENT
END:VCALENDAR