BEGIN:VCALENDAR
VERSION:2.0
PRODID:-//Icelandic Canadian Club of Toronto - ECPv6.15.13//NONSGML v1.0//EN
CALSCALE:GREGORIAN
METHOD:PUBLISH
X-WR-CALNAME:Icelandic Canadian Club of Toronto
X-ORIGINAL-URL:https://www.icct.info
X-WR-CALDESC:Events for Icelandic Canadian Club of Toronto
REFRESH-INTERVAL;VALUE=DURATION:PT1H
X-Robots-Tag:noindex
X-PUBLISHED-TTL:PT1H
BEGIN:VTIMEZONE
TZID:America/Toronto
BEGIN:DAYLIGHT
TZOFFSETFROM:-0500
TZOFFSETTO:-0400
TZNAME:EDT
DTSTART:20220313T070000
END:DAYLIGHT
BEGIN:STANDARD
TZOFFSETFROM:-0400
TZOFFSETTO:-0500
TZNAME:EST
DTSTART:20221106T060000
END:STANDARD
BEGIN:DAYLIGHT
TZOFFSETFROM:-0500
TZOFFSETTO:-0400
TZNAME:EDT
DTSTART:20230312T070000
END:DAYLIGHT
BEGIN:STANDARD
TZOFFSETFROM:-0400
TZOFFSETTO:-0500
TZNAME:EST
DTSTART:20231105T060000
END:STANDARD
BEGIN:DAYLIGHT
TZOFFSETFROM:-0500
TZOFFSETTO:-0400
TZNAME:EDT
DTSTART:20240310T070000
END:DAYLIGHT
BEGIN:STANDARD
TZOFFSETFROM:-0400
TZOFFSETTO:-0500
TZNAME:EST
DTSTART:20241103T060000
END:STANDARD
END:VTIMEZONE
BEGIN:VEVENT
DTSTART;TZID=America/Toronto:20230228T190000
DTEND;TZID=America/Toronto:20230228T210000
DTSTAMP:20260425T162849
CREATED:20230219T182622Z
LAST-MODIFIED:20230220T024400Z
UID:8759-1677610800-1677618000@www.icct.info
SUMMARY:Nordic Nights: A Letter from Helga by Ása Helga Hjörleifsdóttir
DESCRIPTION:Our next Nordic Nights feature is an Icelandic film from 2022: A Letter from Helga by Ása Helga Hjörleifsdóttir. \nThe story takes place in the 1940’s in the west fjords of Iceland\, a strange paradise hidden at the edge of Europe. In this small but thriving community we meet Bjarni\, a young\, idealistic farmer. Bjarni has a place in this world; his house has been in his family for 9 generations\, he has status\, respect and his wife Unnur is capable and hard-working. It appears that the sun is shining on them\, but underneath the surface\, a silent anguish is growing between husband and wife\, too painful to talk about. Unnur clings to the farm work\, as does Bjarni who is torn between loyalty to Unnur and a deep\, growing frustration. \nAnd then there is Helga\, the mother of two on the next farm. \nHelga is intelligent\, her poetic mind trapped in farm life and trapped in a marriage with a man who was never her equal. Bjarni and Helga share a love for literature and soon enough the rumor starts to spread that the two of them are having an affair. Ironically this rumor eventually does drive them together. \nAnd just like that – they’re plunged into a passion they didn’t think could exist\, both so thirsty for it that there’s no way of stopping . But when Helga becomes pregnant and asks Bjarni to move to Reykjavík with her\, he can’t take the jump. He stays\, loyal to his wife and to this place. \nDecades later Bjarni finds himself haunted by the past\, wondering if he made the right choice. \nRegistration to watch the Nordic Nights screening of A Letter from Helga on Zoom is required and can be done HERE  \n  \nNote: the Nordic Nights event is FREE but donations are welcome!\n\n \n\n\n\nSuggested Donation Amounts\n\n\nOption 1 $10.00 CADOption 2 $5.00 CADOption 3 $25.00 CADOption 4 $100.00 CAD\n\n\n\n\n \n  \nPre-registration required to attend this event:\n \n 
URL:https://www.icct.info/event/helga
LOCATION:On line
CATEGORIES:Movies
ATTACH;FMTTYPE=image/png:https://www.icct.info/wp-content/uploads/2023/02/Letter-Helga-icon-.png
ORGANIZER;CN="Katrine Handley-Derry":MAILTO:k.handleyderry@gmail.com
END:VEVENT
END:VCALENDAR