BEGIN:VCALENDAR
VERSION:2.0
PRODID:-//Icelandic Canadian Club of Toronto - ECPv6.15.13//NONSGML v1.0//EN
CALSCALE:GREGORIAN
METHOD:PUBLISH
X-WR-CALNAME:Icelandic Canadian Club of Toronto
X-ORIGINAL-URL:https://www.icct.info
X-WR-CALDESC:Events for Icelandic Canadian Club of Toronto
REFRESH-INTERVAL;VALUE=DURATION:PT1H
X-Robots-Tag:noindex
X-PUBLISHED-TTL:PT1H
BEGIN:VTIMEZONE
TZID:America/Toronto
BEGIN:DAYLIGHT
TZOFFSETFROM:-0500
TZOFFSETTO:-0400
TZNAME:EDT
DTSTART:20240310T070000
END:DAYLIGHT
BEGIN:STANDARD
TZOFFSETFROM:-0400
TZOFFSETTO:-0500
TZNAME:EST
DTSTART:20241103T060000
END:STANDARD
BEGIN:DAYLIGHT
TZOFFSETFROM:-0500
TZOFFSETTO:-0400
TZNAME:EDT
DTSTART:20250309T070000
END:DAYLIGHT
BEGIN:STANDARD
TZOFFSETFROM:-0400
TZOFFSETTO:-0500
TZNAME:EST
DTSTART:20251102T060000
END:STANDARD
BEGIN:DAYLIGHT
TZOFFSETFROM:-0500
TZOFFSETTO:-0400
TZNAME:EDT
DTSTART:20260308T070000
END:DAYLIGHT
BEGIN:STANDARD
TZOFFSETFROM:-0400
TZOFFSETTO:-0500
TZNAME:EST
DTSTART:20261101T060000
END:STANDARD
END:VTIMEZONE
BEGIN:VEVENT
DTSTART;TZID=America/Toronto:20251216T190000
DTEND;TZID=America/Toronto:20251216T210000
DTSTAMP:20260423T103843
CREATED:20250901T223003Z
LAST-MODIFIED:20250901T223003Z
UID:9500-1765911600-1765918800@www.icct.info
SUMMARY:Book Club: Miss Iceland\, Auður Ava Ólafsdóttir\, 2019
DESCRIPTION:Join us for the exciting 2025 relaunch of the ICCT Book Club in September
URL:https://www.icct.info/event/book-club-miss-iceland-audur-ava-olafsdottir-2019
LOCATION:On line through Zoom
CATEGORIES:Literature
ATTACH;FMTTYPE=image/jpeg:https://www.icct.info/wp-content/uploads/2025/08/2025-book-club-squre-icon-cropped.jpg
END:VEVENT
END:VCALENDAR