BEGIN:VCALENDAR
VERSION:2.0
PRODID:-//Icelandic Canadian Club of Toronto - ECPv6.15.13//NONSGML v1.0//EN
CALSCALE:GREGORIAN
METHOD:PUBLISH
X-WR-CALNAME:Icelandic Canadian Club of Toronto
X-ORIGINAL-URL:https://www.icct.info
X-WR-CALDESC:Events for Icelandic Canadian Club of Toronto
REFRESH-INTERVAL;VALUE=DURATION:PT1H
X-Robots-Tag:noindex
X-PUBLISHED-TTL:PT1H
BEGIN:VTIMEZONE
TZID:America/Toronto
BEGIN:DAYLIGHT
TZOFFSETFROM:-0500
TZOFFSETTO:-0400
TZNAME:EDT
DTSTART:20240310T070000
END:DAYLIGHT
BEGIN:STANDARD
TZOFFSETFROM:-0400
TZOFFSETTO:-0500
TZNAME:EST
DTSTART:20241103T060000
END:STANDARD
BEGIN:DAYLIGHT
TZOFFSETFROM:-0500
TZOFFSETTO:-0400
TZNAME:EDT
DTSTART:20250309T070000
END:DAYLIGHT
BEGIN:STANDARD
TZOFFSETFROM:-0400
TZOFFSETTO:-0500
TZNAME:EST
DTSTART:20251102T060000
END:STANDARD
BEGIN:DAYLIGHT
TZOFFSETFROM:-0500
TZOFFSETTO:-0400
TZNAME:EDT
DTSTART:20260308T070000
END:DAYLIGHT
BEGIN:STANDARD
TZOFFSETFROM:-0400
TZOFFSETTO:-0500
TZNAME:EST
DTSTART:20261101T060000
END:STANDARD
END:VTIMEZONE
BEGIN:VEVENT
DTSTART;TZID=America/Toronto:20250622T120000
DTEND;TZID=America/Toronto:20250622T160000
DTSTAMP:20260423T200841
CREATED:20250525T211916Z
LAST-MODIFIED:20250528T014647Z
UID:9422-1750593600-1750608000@www.icct.info
SUMMARY:Icelandic National Day Picnic
DESCRIPTION:Grab your blankets and picnic baskets! Join us for a celebration of Þjóðhátíðardagurinn – Icelandic National Day! The picnic this year will take place at Christie Pits Park and will be for all ages. Families are very welcome! This is an informal event. Christie Pits Park is located on at 750 Bloor St. W. (located between the Christie and Ossington Stations on the Bloor Subway Line). We are holding the picnic at Picnic Area No 2. Look for the Icelandic Flags.  \nJoin us as we welcome our special guests the Sygtryggring Vikings to our picnic this year. The Sygtryggring Vikings accurately portray the history of the Viking Age to the public through recreations of craft\, cuisine\, clothing\, culture & combat. \nPlease let us know you are coming! (we would really appreciate if you could fill out the form below so that we can accurately plan our activities!)
URL:https://www.icct.info/event/icelandic-national-day-picnic-2
LOCATION:Christie Pits Park\, 750 Bloor St. W.\, Toronto
CATEGORIES:Events,Food,Live Theatre,Music,Youth
ATTACH;FMTTYPE=image/jpeg:https://www.icct.info/wp-content/uploads/2025/05/2025-Picnic-Icon-1.jpg
END:VEVENT
END:VCALENDAR