BEGIN:VCALENDAR
VERSION:2.0
PRODID:-//Icelandic Canadian Club of Toronto - ECPv6.15.13//NONSGML v1.0//EN
CALSCALE:GREGORIAN
METHOD:PUBLISH
X-ORIGINAL-URL:https://www.icct.info
X-WR-CALDESC:Events for Icelandic Canadian Club of Toronto
REFRESH-INTERVAL;VALUE=DURATION:PT1H
X-Robots-Tag:noindex
X-PUBLISHED-TTL:PT1H
BEGIN:VTIMEZONE
TZID:America/Toronto
BEGIN:DAYLIGHT
TZOFFSETFROM:-0500
TZOFFSETTO:-0400
TZNAME:EDT
DTSTART:20220313T070000
END:DAYLIGHT
BEGIN:STANDARD
TZOFFSETFROM:-0400
TZOFFSETTO:-0500
TZNAME:EST
DTSTART:20221106T060000
END:STANDARD
BEGIN:DAYLIGHT
TZOFFSETFROM:-0500
TZOFFSETTO:-0400
TZNAME:EDT
DTSTART:20230312T070000
END:DAYLIGHT
BEGIN:STANDARD
TZOFFSETFROM:-0400
TZOFFSETTO:-0500
TZNAME:EST
DTSTART:20231105T060000
END:STANDARD
BEGIN:DAYLIGHT
TZOFFSETFROM:-0500
TZOFFSETTO:-0400
TZNAME:EDT
DTSTART:20240310T070000
END:DAYLIGHT
BEGIN:STANDARD
TZOFFSETFROM:-0400
TZOFFSETTO:-0500
TZNAME:EST
DTSTART:20241103T060000
END:STANDARD
END:VTIMEZONE
BEGIN:VEVENT
DTSTART;TZID=America/Toronto:20230617T130000
DTEND;TZID=America/Toronto:20230617T163000
DTSTAMP:20260425T104754
CREATED:20230408T180153Z
LAST-MODIFIED:20230615T190028Z
UID:8793-1687006800-1687019400@www.icct.info
SUMMARY:June 17 Icelandic National Day Picnic
DESCRIPTION:  \nThe Icelandic Canadian Club of Toronto\, the Embassy of Iceland in Ottawa and Arden Jackson are hosting a celebration of Iceland’s Independence Day in Toronto on Saturday\, June 17 at High Park\, Toronto.  \nWe are planning for 100 attendees and look forward to a magnificent gathering of ICCT Members and friends. Please see the details below and the attached promo graphic.  \nThe ICCT\, the Embassy of Iceland\, Icelandic Glacial\, Glaze and Icelandair are Sponsors to date. Entry will be Free or by Donation to The Snorri Program. Please help us by Pre-Registering for the event at: icct.info. \nHere are the details: \nEvent: Taste of Iceland’s Independence Day: Picnic in High Park  \nHosted by: The Icelandic Canadian Club of Toronto and The Embassy of Iceland in Ottawa. \nWho is it for: For those who wish to experience Icelandic Food\, Music and Games for all ages\, and families including Icelanders and Icelandophiles alike. \nDate: Saturday\, June 17\, 2023  \nTime: 1pm-4:30pm  \nWhere: High Park\, 1873 Bloor Street West\, Toronto\, ON\, M6R 2Z3\, Canada. The site is close to the Parkside Drive and High Park Blvd entrance.  \nParking: Parking is limited to street parking on weekends. https://www.highparktoronto.com/map.php \nFee: Entry to High Park is Free. Event Entry is Free and by Donation with Proceeds to The Snorri Program.  \nPre Event Registration Appreciated:  \n \n  \nFood Available for Purchase: Imported Icelandic Hot Dogs Með Öllu (Icelandic Style)\, Vínarterta Icelandic Cake\, Coffee\, Tea\, Drinks and More. \nBring Your Picnic\, Chairs and Blankets. We have a covered shelter and a beautiful spot close to the Zoo. \nSchedule: \n1:00 PM – Event Picnic Area and Food by Arden Jackson and Team Opens  \n2:00 – 2:30 PM – Welcome by ICCT and Hlynur Guðjónsson\, Embassy of Iceland in Ottawa \n2:30 – 3:00 PM – Performance by Lindy Vopnfjörð (Canada) \n3:00 – 3:30 PM – Performance by Salóme Katrín (Iceland) \n3:30 – 4:30 PM – Socialize and Games \nWe look forward to sharing this exceptional cultural event and welcome everyone to join us in the celebration of Iceland’s Independence Day. All this and more delightful surprises await family and friends. \n  \nPlease let me know by email if you are available to join the planning or event day team at: arden@ardenjackson.com
URL:https://www.icct.info/event/june-17-icelandic-national-day-picnic
LOCATION:High Park\, Bloor St @ High Park Ave\, Toronto
CATEGORIES:Food,Music,Saga,Youth
ATTACH;FMTTYPE=image/png:https://www.icct.info/wp-content/uploads/2023/04/R_14_06_23_BottomBannerPicnic-in-High-Park-Insta.png
END:VEVENT
END:VCALENDAR