BEGIN:VCALENDAR
VERSION:2.0
PRODID:-//Icelandic Canadian Club of Toronto - ECPv6.15.13//NONSGML v1.0//EN
CALSCALE:GREGORIAN
METHOD:PUBLISH
X-WR-CALNAME:Icelandic Canadian Club of Toronto
X-ORIGINAL-URL:https://www.icct.info
X-WR-CALDESC:Events for Icelandic Canadian Club of Toronto
REFRESH-INTERVAL;VALUE=DURATION:PT1H
X-Robots-Tag:noindex
X-PUBLISHED-TTL:PT1H
BEGIN:VTIMEZONE
TZID:America/Toronto
BEGIN:DAYLIGHT
TZOFFSETFROM:-0500
TZOFFSETTO:-0400
TZNAME:EDT
DTSTART:20240310T070000
END:DAYLIGHT
BEGIN:STANDARD
TZOFFSETFROM:-0400
TZOFFSETTO:-0500
TZNAME:EST
DTSTART:20241103T060000
END:STANDARD
BEGIN:DAYLIGHT
TZOFFSETFROM:-0500
TZOFFSETTO:-0400
TZNAME:EDT
DTSTART:20250309T070000
END:DAYLIGHT
BEGIN:STANDARD
TZOFFSETFROM:-0400
TZOFFSETTO:-0500
TZNAME:EST
DTSTART:20251102T060000
END:STANDARD
BEGIN:DAYLIGHT
TZOFFSETFROM:-0500
TZOFFSETTO:-0400
TZNAME:EDT
DTSTART:20260308T070000
END:DAYLIGHT
BEGIN:STANDARD
TZOFFSETFROM:-0400
TZOFFSETTO:-0500
TZNAME:EST
DTSTART:20261101T060000
END:STANDARD
END:VTIMEZONE
BEGIN:VEVENT
DTSTART;TZID=America/Toronto:20250929T113000
DTEND;TZID=America/Toronto:20250929T130000
DTSTAMP:20260423T200700
CREATED:20250914T181634Z
LAST-MODIFIED:20250914T181634Z
UID:9525-1759145400-1759150800@www.icct.info
SUMMARY:Webinar: Woven Together\, New Iceland in Canada: 150th Anniversary Reflections
DESCRIPTION:We are posting information about this webinar that is being hosted by the Icelandic Ambassador to Canada.  \nIn 1875\, Canada established a reserve for Icelandic immigrants on the shores of Lake Winnipeg that the Icelanders called Nýja Ísland (New Iceland). As Parks Canada notes on a historic monument in Gimli\, Manitoba\, “New Iceland represents a distinctive episode in the early settlement of the Canadian West.” Timed to coincide with the 150th anniversary of the founding of New Iceland\, this webinar offers fresh insights into Icelandic emigration to Canada in the 1870s. In addition to exploring the push and pull factors that led to the foundation of Nýja Ísland on the Western shores of Lake Winnipeg\, the webinar also addresses the Icelandic emigrants’ relations with Indigenous peoples\, an important area of new historical research. \nThis event is the latest in an ongoing series of webinars organized by the embassies of Canada in Reykjavík and Iceland in Ottawa. In addition to our main speakers\, the webinar will also include remarks by Canada’s Ambassador to Iceland\, Jenny Hill\, and Iceland’s Ambassador to Canada\, Hlynur Guðjónsson. \nAgenda\n11:30: Welcome \n\nAmbassador Hlynur Guðjónsson\, Embassy of Iceland in Ottawa\n\n11:30-12:05: The Icelandic Emigration and New Iceland \n\nThe Icelandic Emigration to the Americas 1860-1914 From an International Perspective: Dr. Ólöf Garðarsdóttir\, Professor in Social History\, Dean of School\, School of Humanities\, University of Iceland\n\n\nNew Iceland in Canada: 150th Anniversary Reflections: Dr. Ryan Eyford\, Associate Professor\, Department of History\, The University of Winnipeg\n\n12:05-12:30: Discussion and Q&A \n12:30: Closing Remarks \n\nAmbassador Jenny Hill\, Embassy of Canada in Iceland\n\nDr. Ólöf Garðarsdóttir is a Professor in Social History and the Dean of School of School of Humanities at the University of Iceland. Her main research focus has been in the field of demographics and family history. Dr. Garðarsdóttir is a widely published author on migration\, fertility\, the history of health and public health\, with emphasis on infant health\, but as well on childhood and the history of education. \nDr. Ryan Eyford is an associate professor in the Department of History at the University of Winnipeg. He is the author of White Settler Reserve: New Iceland and the Colonization of the Canadian West (UBC Press\, 2016).
URL:https://www.icct.info/event/webinar-woven-together-new-iceland-in-canada-150th-anniversary-reflections
LOCATION:On line
CATEGORIES:Environment,Events,Genealogy,History,Language,Lecture
ATTACH;FMTTYPE=image/jpeg:https://www.icct.info/wp-content/uploads/2025/09/Woven-Together-Poster.jpg
END:VEVENT
END:VCALENDAR