BEGIN:VCALENDAR
VERSION:2.0
PRODID:-//Icelandic Canadian Club of Toronto - ECPv6.15.13//NONSGML v1.0//EN
CALSCALE:GREGORIAN
METHOD:PUBLISH
X-ORIGINAL-URL:https://www.icct.info
X-WR-CALDESC:Events for Icelandic Canadian Club of Toronto
REFRESH-INTERVAL;VALUE=DURATION:PT1H
X-Robots-Tag:noindex
X-PUBLISHED-TTL:PT1H
BEGIN:VTIMEZONE
TZID:America/Toronto
BEGIN:DAYLIGHT
TZOFFSETFROM:-0500
TZOFFSETTO:-0400
TZNAME:EDT
DTSTART:20220313T070000
END:DAYLIGHT
BEGIN:STANDARD
TZOFFSETFROM:-0400
TZOFFSETTO:-0500
TZNAME:EST
DTSTART:20221106T060000
END:STANDARD
BEGIN:DAYLIGHT
TZOFFSETFROM:-0500
TZOFFSETTO:-0400
TZNAME:EDT
DTSTART:20230312T070000
END:DAYLIGHT
BEGIN:STANDARD
TZOFFSETFROM:-0400
TZOFFSETTO:-0500
TZNAME:EST
DTSTART:20231105T060000
END:STANDARD
BEGIN:DAYLIGHT
TZOFFSETFROM:-0500
TZOFFSETTO:-0400
TZNAME:EDT
DTSTART:20240310T070000
END:DAYLIGHT
BEGIN:STANDARD
TZOFFSETFROM:-0400
TZOFFSETTO:-0500
TZNAME:EST
DTSTART:20241103T060000
END:STANDARD
END:VTIMEZONE
BEGIN:VEVENT
DTSTART;TZID=America/Toronto:20230325T180000
DTEND;TZID=America/Toronto:20230325T230000
DTSTAMP:20260425T180038
CREATED:20230219T184640Z
LAST-MODIFIED:20230219T184752Z
UID:8768-1679767200-1679785200@www.icct.info
SUMMARY:Thorrablot 2023
DESCRIPTION:For More Information and Tickets: https://www.icct.info/thorrablot-2
URL:https://www.icct.info/event/thorrablot-2023
LOCATION:Latvian Centre\, 4 Credit Union Drive\, Toronto\, Ontario\, M4A 2N8\, Canada
CATEGORIES:Dance,Events,Food,Genealogy,Language,Music,Saga,Youth
ATTACH;FMTTYPE=image/jpeg:https://www.icct.info/wp-content/uploads/2023/01/Thorrablot-dateless-squre-icon-cropped-300x300-1.jpg
END:VEVENT
END:VCALENDAR